BEGIN:VCALENDAR
VERSION:2.0
PRODID:-//wp-events-plugin.com//7.2.3.1//EN
BEGIN:VEVENT
UID:73@zouk-jena.de
DTSTART;VALUE=DATE:20240608
DTEND;VALUE=DATE:20240609
DTSTAMP:20240519T102604Z
URL:https://zouk-jena.de/events/2024-zouk-party-2-floors/
SUMMARY:Zouk & Forró (2 Floors)
DESCRIPTION:Zouk Jena meets Forró Jena:\n\nDear Zouk and Forró dancers of
  Jena and beyond\, we are very excited to invite you all to our upcoming\n
 \n&#x1f483\; Zouk &amp\; Forró Party &#x1f57a\;\n\nAfter two workshops fo
 r not-yet-dancers (Crash course) and already-dancers (Open Level)\, we wil
 l dance together on two floors! Drinks (incl. Caipis \;) ) are available\,
  the only thing to is yourself\, your dancing shoes and lots of good energ
 y :D\n\n4 Workshops:\n\nCrahs Courses - learn your first steps! // 3 €\n
 19:00 Forró with Annie &amp\; Anton (Jena)\n19:00 Zouk with Alex (Mainz) 
 &amp\; Sigrid (Munich)\n\nOpen Level Workshops - build upon your fundament
 als! // 3 €\n20:00 Forró with Alex (Dresden)\n20:00 Zouk with Morten (A
 arhus/ DK) &amp\; Gianna (Jena)\n\n21:00 Zouk &amp\; Forró Party on 2 flo
 ors with DJ Team Jena // 3 €\n\nVenue: KuBuS\, Theobald-Renner-Str. 1a\,
  07747 Jena-Lobeda\n\nWe're looking forward to seeing you all soon&#x1f929
 \;\n\nIn cooperation with: Forró Jena\n\n
ATTACH;FMTTYPE=image/jpeg:https://zouk-jena.de/wp-content/uploads/Flyer_Zo
 uk-Forro_240608-2.png
CATEGORIES:Zouk Party in Jena
LOCATION:KuBuS\, Theobald-Renner-Str. 1a \, Jena \, Thüringen\, 07747\, De
 utschland
X-APPLE-STRUCTURED-LOCATION;VALUE=URI;X-ADDRESS=Theobald-Renner-Str. 1a \, 
 Jena \, Thüringen\, 07747\, Deutschland;X-APPLE-RADIUS=100;X-TITLE=KuBuS:
 geo:0,0
END:VEVENT
END:VCALENDAR