BEGIN:VCALENDAR
VERSION:2.0
PRODID:-//wp-events-plugin.com//7.2.3.1//EN
BEGIN:VEVENT
UID:37@zouk-jena.de
DTSTART:20220718T180000Z
DTEND:20220718T200000Z
DTSTAMP:20220705T194015Z
URL:https://zouk-jena.de/events/zouk-advanced-course-2022-summer-break/
SUMMARY:Zouk Advanced Course 2022 - Summer Break
DESCRIPTION:*Englisch below*\n---------------------------------------------
 -------------\nZouk Kurs Fortgeschrittene - Brazilianischer Zouk\nVORAUSSE
 TZUNG: Erfolgreich abgeschlossener Anfänger - und Mittelstufen - Kurs (re
 gelmäßige Teilnahme + Beherrschen aller Lerninhalte). Hast du nicht ents
 prechend an unseren Kursen teilgenommen\, kontaktiere uns bitte vor einer 
 Anmeldung.\n\nZeitraum: 18.July-10.Oktober\n\n8 Einheiten Zouk-Kurs\n\nUnt
 erricht: Montags Kursbeginn 20:00 bis 22:00 Uhr (45 min Kurs+ 1 h Übungsz
 eit)\n\nKurssprache: Englisch\n\nKosten: 20 €\n\nFür die Registrierung 
 ist der Name und die E-Mail-Adresse erforderlich\, die Angabe der Telefonn
 ummer ist nicht notwendig.\n\nWichtiger Hinweis:\n\nIst dein Platz schon a
 usgebucht? Schreib uns einfach eine Nachricht und wir informieren dich sob
 ald weitere Plätze oder neue Kurse verfügbar sind.\n\n------------------
 ----------------------------------------\nZouk Intermediate Course - Brazi
 lian Zouk\nREQUIREMENT: successfully finished Beginners and Intermediate C
 lass - (regular attendance + ability to dance all teaching contents). If y
 ou did not participate in our classes\, please contact us before registrat
 ion to the classes.\n\nTime period: 18.July-10.October\n\n8 units Zouk Cla
 sses\n\nEvery Monday start 20:00 until 22:00 (45 min Class + 1 h practise 
 time)\n\nLanguage: English\n\nPrice: 20 €\n\nName and email address is r
 equired for the registration\, the phone number is not necessary.\n\nImpor
 tant:\n\nYou did not get a place anymore? Just write us a message and we w
 ill inform you as soon as more places or new courses are available.
CATEGORIES:Training Group 3
LOCATION:Haus auf der Mauer\, Johannisplatz 26\, Jena\, Thüringen\, 07743\
 , Deutschland
X-APPLE-STRUCTURED-LOCATION;VALUE=URI;X-ADDRESS=Johannisplatz 26\, Jena\, T
 hüringen\, 07743\, Deutschland;X-APPLE-RADIUS=100;X-TITLE=Haus auf der Ma
 uer:geo:0,0
END:VEVENT
END:VCALENDAR