BEGIN:VCALENDAR
VERSION:2.0
PRODID:-//wp-events-plugin.com//7.2.3.1//EN
BEGIN:VEVENT
UID:26@zouk-jena.de
DTSTART;VALUE=DATE:20211018
DTEND;VALUE=DATE:20211019
DTSTAMP:20211016T105039Z
URL:https://zouk-jena.de/events/zouk-improver-course-2021/
SUMMARY:Zouk Improver 2021
DESCRIPTION:*Englisch below*\n---------------------------------------------
 -------------\nZouk Improvers Kurs 2021\nVORAUSSETZUNG: Erfolgreich abgesc
 hlossener Anfänger-Kurs (regelmäßige Teilnahme + Beherrschen aller Lern
 inhalte) und regelmäßige Teilnahme an den Open-Level-Klassen\, oder verg
 leichbares Level (wenn ihr Hilfe bei der Einschätzung des Levels habt\, s
 chreibt uns einfach über das Kontaktformular).\n\n12 h Zouk-Kurs (oder me
 hr :-))\n\nMontags:\n\n20:00- 21:00 Kurszeit (max 24 Personen)\n\n21:00 - 
 22:00 Übungszeit (max 24 Personen)\n\nKurssprache: Englisch\n\nKosten: 35
  € (Studenten 30 €)\n\nFür die Registrierung ist der Name und die E-M
 ail-Adresse erforderlich\, die Angabe der Telefonnummer ist nicht notwendi
 g.\n\nWichtiger Hinweis:\n\n\nDie Veranstaltungen unterliegen den derzeit 
 geltenden Corona-Regelungen des Veranstaltungsortes\, d.h. der Nachweis zu
 r 3G-Regel (geimpft\, getestet\, genesen) muss erfasst werden. Bitte bring
 t am Tag der Veranstaltung einen Nachweis zu genesen oder geimpft bzw. ein
 en gültigen Testnachweis (nicht älter als 24h) mit.\n\n-----------------
 -----------------------------------------\nZouk Improvers Course 2021\nREQ
 UIREMENT: successfully finished Beginners Class (regular attendance + abil
 ity to dance all teaching contents) plus regular attendance of the recent 
 open level classes\, or equivalent level (if you need help with the level 
 assessment\, just drop us a message via the contact form).\n\n12 h Zouk Cl
 asses (ore more :-))\n\nEvery Monday:\n\n8:00 - 9:00 pm Class (max 24 peop
 le)\n\n9:00 - 10:00 pm Practise time (max 24 people)\n\nLanguage: English\
 n\nPrice: 35 € (students 30 €)\n\nName and email address is required f
 or the registration\, the phone number is not necessary.\n\nImportant:\n\n
 All sessions underlie the current Corona regulations of the location\, i.e
 . evidence of the "3G rule" (vaccinated\, recovered\, tested) is required.
  Please bring proof of recovery or vaccination or a valid test certificate
  (not older than 24 hours) with you on the day of the class.\n\n----------
 ------------------------------------------------
CATEGORIES:Traning Group 2
LOCATION:Haus auf der Mauer\, Johannisplatz 26\, Jena\, Thüringen\, 07743\
 , Deutschland
X-APPLE-STRUCTURED-LOCATION;VALUE=URI;X-ADDRESS=Johannisplatz 26\, Jena\, T
 hüringen\, 07743\, Deutschland;X-APPLE-RADIUS=100;X-TITLE=Haus auf der Ma
 uer:geo:0,0
END:VEVENT
END:VCALENDAR