BEGIN:VCALENDAR
VERSION:2.0
PRODID:-//wp-events-plugin.com//7.2.3.1//EN
BEGIN:VEVENT
UID:16@zouk-jena.de
DTSTART:20200129T193000Z
DTEND:20200129T233000Z
DTSTAMP:20200127T145507Z
URL:https://zouk-jena.de/events/zoukabend-ilmenau/
SUMMARY:Zoukabend - Ilmenau
DESCRIPTION:Heute hat H-Club nur für Zouk-Tänzer offen!\nEintritt ist fre
 i
CATEGORIES:Zouk Party in Ilmenau
LOCATION:BH-Club\, Max Planck Ring 2\, Ilmenau\, Thüringen\, 98693 \, Deut
 schland
X-APPLE-STRUCTURED-LOCATION;VALUE=URI;X-ADDRESS=Max Planck Ring 2\, Ilmenau
 \, Thüringen\, 98693 \, Deutschland;X-APPLE-RADIUS=100;X-TITLE=BH-Club:ge
 o:0,0
END:VEVENT
END:VCALENDAR